BEGIN:VCALENDAR
VERSION:2.0
PRODID:-//Contratero//ES
CALSCALE:GREGORIAN
METHOD:PUBLISH
BEGIN:VEVENT
UID:IPASA 14/25@contratero.es
DTSTAMP:20260420T102512Z
DTSTART:20251022T235959
DTEND:20251023T005959
SUMMARY:Cierre: Actualización y soporte de licencias de software O
DESCRIPTION:Actualización y soporte de licencias de software Oracle Web Tier (OIWS) en el Servicio Público de Empleo Estatal\\n\\nOrganismo: Dirección General del Servicio Público de Empleo Estatal\\n\\nVer en Contratero: https://contratero.es/contracts/IPASA 14/25
URL:https://contratero.es/contracts/IPASA 14/25
STATUS:CONFIRMED
BEGIN:VALARM
TRIGGER:-P1D
ACTION:DISPLAY
DESCRIPTION:Recordatorio: Actualización y soporte de lic
END:VALARM
END:VEVENT
END:VCALENDAR